BEGIN:VCALENDAR
VERSION:2.0
PRODID:-//mWEB//NONSGML mWEB//NB
URL:https://www.beroa.no/kalender/ics
X-WR-CALNAME:Berøa Langåker
REFRESH-INTERVAL;VALUE=DURATION:PT6H
X-PUBLISHED-TTL:PT6H    
CALSCALE:GREGORIAN
BEGIN:VEVENT
UID:beroa.no-2645
DTSTAMP:20260425T010138Z
DTSTART:20230902T100000Z
DTEND:20230902T113000Z
URL:https://www.beroa.no/kalender/2023/09/02/priv-arr-i-kjelleren/2645/
CREATED:20230311T144045Z
LAST-MODIFIED:20230311T144046Z
SUMMARY:Priv arr i kjelleren
DESCRIPTION:\n\nhttps://www.beroa.no/kalender/2023/09/02/priv-arr-i-kjelleren/2645/
END:VEVENT

END:VCALENDAR