BEGIN:VCALENDAR
VERSION:2.0
PRODID:-//mWEB//NONSGML mWEB//NB
URL:https://www.beroa.no/kalender/ics
X-WR-CALNAME:Berøa Langåker
REFRESH-INTERVAL;VALUE=DURATION:PT6H
X-PUBLISHED-TTL:PT6H    
CALSCALE:GREGORIAN
BEGIN:VEVENT
UID:beroa.no-2549
DTSTAMP:20260425T004510Z
DTSTART:20230903T090000Z
DTEND:20230903T103000Z
URL:https://www.beroa.no/kalender/2023/09/03/mote-med-willy-saether-verdens-viktigste-sporsmal/2549/
CREATED:20230104T170721Z
LAST-MODIFIED:20230811T165842Z
SUMMARY:Møte med Willy Sæther: "Verdens viktigste spørsmål"
DESCRIPTION:\n\nhttps://www.beroa.no/kalender/2023/09/03/mote-med-willy-saether-verdens-viktigste-sporsmal/2549/
END:VEVENT

END:VCALENDAR