BEGIN:VCALENDAR
VERSION:2.0
PRODID:-//mWEB//NONSGML mWEB//NB
URL:https://www.beroa.no/kalender/ics
X-WR-CALNAME:Berøa Langåker
REFRESH-INTERVAL;VALUE=DURATION:PT6H
X-PUBLISHED-TTL:PT6H    
CALSCALE:GREGORIAN
BEGIN:VEVENT
UID:beroa.no-2764
DTSTAMP:20260425T004506Z
DTSTART:20230906T173000Z
DTEND:20230906T190000Z
URL:https://www.beroa.no/kalender/2023/09/06/bonnesamling/2764/
CREATED:20230818T070803Z
LAST-MODIFIED:20230818T070804Z
SUMMARY:Bønnesamling
DESCRIPTION:\n\nhttps://www.beroa.no/kalender/2023/09/06/bonnesamling/2764/
END:VEVENT

END:VCALENDAR