BEGIN:VCALENDAR
VERSION:2.0
PRODID:-//mWEB//NONSGML mWEB//NB
URL:https://www.beroa.no/kalender/ics
X-WR-CALNAME:Berøa Langåker
REFRESH-INTERVAL;VALUE=DURATION:PT6H
X-PUBLISHED-TTL:PT6H    
CALSCALE:GREGORIAN
BEGIN:VEVENT
UID:beroa.no-2707
DTSTAMP:20260425T004616Z
DTSTART:20230907T173000Z
DTEND:20230907T190000Z
URL:https://www.beroa.no/kalender/2023/09/07/bibellesning/2707/
CREATED:20230625T173845Z
LAST-MODIFIED:20230625T173848Z
SUMMARY:Bibellesning
DESCRIPTION:\n\nhttps://www.beroa.no/kalender/2023/09/07/bibellesning/2707/
END:VEVENT

END:VCALENDAR