BEGIN:VCALENDAR
VERSION:2.0
PRODID:-//mWEB//NONSGML mWEB//NB
URL:https://www.beroa.no/kalender/ics
X-WR-CALNAME:Berøa Langåker
REFRESH-INTERVAL;VALUE=DURATION:PT6H
X-PUBLISHED-TTL:PT6H    
CALSCALE:GREGORIAN
BEGIN:VEVENT
UID:beroa.no-2735
DTSTAMP:20260425T005235Z
DTSTART:20230910T090000Z
DTEND:20230910T103000Z
URL:https://www.beroa.no/kalender/2023/09/10/sondagsskole/2735/
CREATED:20230626T162226Z
LAST-MODIFIED:20230626T162230Z
SUMMARY:Søndagsskole
DESCRIPTION:\n\nhttps://www.beroa.no/kalender/2023/09/10/sondagsskole/2735/
END:VEVENT

END:VCALENDAR