BEGIN:VCALENDAR
VERSION:2.0
PRODID:-//mWEB//NONSGML mWEB//NB
URL:https://www.beroa.no/kalender/ics
X-WR-CALNAME:Berøa Langåker
REFRESH-INTERVAL;VALUE=DURATION:PT6H
X-PUBLISHED-TTL:PT6H    
CALSCALE:GREGORIAN
BEGIN:VEVENT
UID:beroa.no-2667
DTSTAMP:20260425T004816Z
DTSTART:20230916T160000Z
DTEND:20230916T173000Z
URL:https://www.beroa.no/kalender/2023/09/16/sammen-i-storhall-karmoy/2667/
CREATED:20230327T170151Z
LAST-MODIFIED:20230910T200049Z
SUMMARY:Sammen i Storhall Karmøy
DESCRIPTION:\n\nhttps://www.beroa.no/kalender/2023/09/16/sammen-i-storhall-karmoy/2667/
END:VEVENT

END:VCALENDAR