BEGIN:VCALENDAR
VERSION:2.0
PRODID:-//mWEB//NONSGML mWEB//NB
URL:https://www.beroa.no/kalender/ics
X-WR-CALNAME:Berøa Langåker
REFRESH-INTERVAL;VALUE=DURATION:PT6H
X-PUBLISHED-TTL:PT6H    
CALSCALE:GREGORIAN
BEGIN:VEVENT
UID:beroa.no-2668
DTSTAMP:20260425T004702Z
DTSTART:20230916T220000Z
DTEND:20230917T215900Z
URL:https://www.beroa.no/kalender/2023/09/17/sammen-i-storhall-karmoy/2668/
CREATED:20230327T170210Z
LAST-MODIFIED:20230910T200156Z
SUMMARY:Sammen i Storhall Karmøy
DESCRIPTION:\n\nhttps://www.beroa.no/kalender/2023/09/17/sammen-i-storhall-karmoy/2668/
X-MICROSOFT-CDO-ALLDAYEVENT:TRUE
END:VEVENT

END:VCALENDAR