BEGIN:VCALENDAR
VERSION:2.0
PRODID:-//mWEB//NONSGML mWEB//NB
URL:https://www.beroa.no/kalender/ics
X-WR-CALNAME:Berøa Langåker
REFRESH-INTERVAL;VALUE=DURATION:PT6H
X-PUBLISHED-TTL:PT6H    
CALSCALE:GREGORIAN
BEGIN:VEVENT
UID:beroa.no-2709
DTSTAMP:20260425T010138Z
DTSTART:20230921T173000Z
DTEND:20230921T190000Z
URL:https://www.beroa.no/kalender/2023/09/21/bibellesning/2709/
CREATED:20230625T173951Z
LAST-MODIFIED:20230625T173954Z
SUMMARY:Bibellesning
DESCRIPTION:\n\nhttps://www.beroa.no/kalender/2023/09/21/bibellesning/2709/
END:VEVENT

END:VCALENDAR