BEGIN:VCALENDAR
VERSION:2.0
PRODID:-//mWEB//NONSGML mWEB//NB
URL:https://www.beroa.no/kalender/ics
X-WR-CALNAME:Berøa Langåker
REFRESH-INTERVAL;VALUE=DURATION:PT6H
X-PUBLISHED-TTL:PT6H    
CALSCALE:GREGORIAN
BEGIN:VEVENT
UID:beroa.no-2744
DTSTAMP:20260424T234105Z
DTSTART:20231003T170000Z
DTEND:20231003T183000Z
URL:https://www.beroa.no/kalender/2023/10/03/bibeltimer-sandve-bedehus-taler-nils-dybdal-holthe/2744/
CREATED:20230626T163532Z
LAST-MODIFIED:20230920T152856Z
SUMMARY:Bibeltimer Sandve bedehus. Taler: Nils Dybdal Holthe
DESCRIPTION:(Felles med Skudenes og Sandve) \n\nhttps://www.beroa.no/kalender/2023/10/03/bibeltimer-sandve-bedehus-taler-nils-dybdal-holthe/2744/
END:VEVENT

END:VCALENDAR