BEGIN:VCALENDAR
VERSION:2.0
PRODID:-//mWEB//NONSGML mWEB//NB
URL:https://www.beroa.no/kalender/ics
X-WR-CALNAME:Berøa Langåker
REFRESH-INTERVAL;VALUE=DURATION:PT6H
X-PUBLISHED-TTL:PT6H    
CALSCALE:GREGORIAN
BEGIN:VEVENT
UID:beroa.no-2812
DTSTAMP:20260424T234053Z
DTSTART:20231007T160000Z
DTEND:20231007T173000Z
URL:https://www.beroa.no/kalender/2023/10/07/mote-tale-av-nils-kare-strom-sang-av-sevlandsjentene/2812/
CREATED:20231003T102215Z
LAST-MODIFIED:20231003T203047Z
SUMMARY:Møte. Tale av Nils Kåre Strøm. Sang av Sevlandsjentene.
DESCRIPTION:\n\nhttps://www.beroa.no/kalender/2023/10/07/mote-tale-av-nils-kare-strom-sang-av-sevlandsjentene/2812/
END:VEVENT

END:VCALENDAR