BEGIN:VCALENDAR
VERSION:2.0
PRODID:-//mWEB//NONSGML mWEB//NB
URL:https://www.beroa.no/kalender/ics
X-WR-CALNAME:Berøa Langåker
REFRESH-INTERVAL;VALUE=DURATION:PT6H
X-PUBLISHED-TTL:PT6H    
CALSCALE:GREGORIAN
BEGIN:VEVENT
UID:beroa.no-2553
DTSTAMP:20260424T232325Z
DTSTART:20231012T173000Z
DTEND:20231012T190000Z
URL:https://www.beroa.no/kalender/2023/10/12/bibellesning/2553/
CREATED:20230104T171125Z
LAST-MODIFIED:20230924T133723Z
SUMMARY:Bibellesning
DESCRIPTION:\n\nhttps://www.beroa.no/kalender/2023/10/12/bibellesning/2553/
END:VEVENT

END:VCALENDAR