BEGIN:VCALENDAR
VERSION:2.0
PRODID:-//mWEB//NONSGML mWEB//NB
URL:https://www.beroa.no/kalender/ics
X-WR-CALNAME:Berøa Langåker
REFRESH-INTERVAL;VALUE=DURATION:PT6H
X-PUBLISHED-TTL:PT6H    
CALSCALE:GREGORIAN
BEGIN:VEVENT
UID:beroa.no-2831
DTSTAMP:20260424T234037Z
DTSTART:20231013T173000Z
DTEND:20231013T190000Z
URL:https://www.beroa.no/kalender/2023/10/13/mote-med-nils-kare-strom-sang-av-ivan-underhaug/2831/
CREATED:20231009T081722Z
LAST-MODIFIED:20231011T103941Z
SUMMARY:Møte med Nils Kåre Strøm - Sang av Ivan Underhaug
DESCRIPTION:\n\nhttps://www.beroa.no/kalender/2023/10/13/mote-med-nils-kare-strom-sang-av-ivan-underhaug/2831/
END:VEVENT

END:VCALENDAR