BEGIN:VCALENDAR
VERSION:2.0
PRODID:-//mWEB//NONSGML mWEB//NB
URL:https://www.beroa.no/kalender/ics
X-WR-CALNAME:Berøa Langåker
REFRESH-INTERVAL;VALUE=DURATION:PT6H
X-PUBLISHED-TTL:PT6H    
CALSCALE:GREGORIAN
BEGIN:VEVENT
UID:beroa.no-2832
DTSTAMP:20260424T233745Z
DTSTART:20231014T170000Z
DTEND:20231014T183000Z
URL:https://www.beroa.no/kalender/2023/10/14/mote-med-nils-kare-strom-sang-av-lars-bardsen/2832/
CREATED:20231009T081736Z
LAST-MODIFIED:20231011T103959Z
SUMMARY:Møte med Nils Kåre Strøm - Sang av Lars Bårdsen
DESCRIPTION:\n\nhttps://www.beroa.no/kalender/2023/10/14/mote-med-nils-kare-strom-sang-av-lars-bardsen/2832/
END:VEVENT

END:VCALENDAR