BEGIN:VCALENDAR
VERSION:2.0
PRODID:-//mWEB//NONSGML mWEB//NB
URL:https://www.beroa.no/kalender/ics
X-WR-CALNAME:Berøa Langåker
REFRESH-INTERVAL;VALUE=DURATION:PT6H
X-PUBLISHED-TTL:PT6H    
CALSCALE:GREGORIAN
BEGIN:VEVENT
UID:beroa.no-2781
DTSTAMP:20260424T232422Z
DTSTART:20231016T150000Z
DTEND:20231016T163000Z
URL:https://www.beroa.no/kalender/2023/10/16/mandagsklubben/2781/
CREATED:20230919T152753Z
LAST-MODIFIED:20230919T152753Z
SUMMARY:Mandagsklubben
DESCRIPTION:\n\nhttps://www.beroa.no/kalender/2023/10/16/mandagsklubben/2781/
END:VEVENT

END:VCALENDAR