BEGIN:VCALENDAR
VERSION:2.0
PRODID:-//mWEB//NONSGML mWEB//NB
URL:https://www.beroa.no/kalender/ics
X-WR-CALNAME:Berøa Langåker
REFRESH-INTERVAL;VALUE=DURATION:PT6H
X-PUBLISHED-TTL:PT6H    
CALSCALE:GREGORIAN
BEGIN:VEVENT
UID:beroa.no-2680
DTSTAMP:20260424T232217Z
DTSTART:20231022T090000Z
DTEND:20231022T103000Z
URL:https://www.beroa.no/kalender/2023/10/22/brodsbrytelse/2680/
CREATED:20230510T170215Z
LAST-MODIFIED:20230626T162532Z
SUMMARY:Brødsbrytelse
DESCRIPTION:\n\nhttps://www.beroa.no/kalender/2023/10/22/brodsbrytelse/2680/
END:VEVENT

END:VCALENDAR