BEGIN:VCALENDAR
VERSION:2.0
PRODID:-//mWEB//NONSGML mWEB//NB
URL:https://www.beroa.no/kalender/ics
X-WR-CALNAME:Berøa Langåker
REFRESH-INTERVAL;VALUE=DURATION:PT6H
X-PUBLISHED-TTL:PT6H    
CALSCALE:GREGORIAN
BEGIN:VEVENT
UID:beroa.no-2788
DTSTAMP:20260424T232423Z
DTSTART:20231024T173000Z
DTEND:20231024T190000Z
URL:https://www.beroa.no/kalender/2023/10/24/bonnesamling/2788/
CREATED:20230924T134011Z
LAST-MODIFIED:20230924T134012Z
SUMMARY:Bønnesamling
DESCRIPTION:\n\nhttps://www.beroa.no/kalender/2023/10/24/bonnesamling/2788/
END:VEVENT

END:VCALENDAR