BEGIN:VCALENDAR
VERSION:2.0
PRODID:-//mWEB//NONSGML mWEB//NB
URL:https://www.beroa.no/kalender/ics
X-WR-CALNAME:Berøa Langåker
REFRESH-INTERVAL;VALUE=DURATION:PT6H
X-PUBLISHED-TTL:PT6H    
CALSCALE:GREGORIAN
BEGIN:VEVENT
UID:beroa.no-2770
DTSTAMP:20260424T233914Z
DTSTART:20231028T173000Z
DTEND:20231028T190000Z
URL:https://www.beroa.no/kalender/2023/10/28/felles-ungdomstreff-akrehamn-med-bilrebus/2770/
CREATED:20230912T211231Z
LAST-MODIFIED:20231028T111128Z
SUMMARY:Felles ungdomstreff (Åkrehamn) med bilrebus
DESCRIPTION:\n\nhttps://www.beroa.no/kalender/2023/10/28/felles-ungdomstreff-akrehamn-med-bilrebus/2770/
END:VEVENT

END:VCALENDAR