BEGIN:VCALENDAR
VERSION:2.0
PRODID:-//mWEB//NONSGML mWEB//NB
URL:https://www.beroa.no/kalender/ics
X-WR-CALNAME:Berøa Langåker
REFRESH-INTERVAL;VALUE=DURATION:PT6H
X-PUBLISHED-TTL:PT6H    
CALSCALE:GREGORIAN
BEGIN:VEVENT
UID:beroa.no-2789
DTSTAMP:20260424T232426Z
DTSTART:20231031T183000Z
DTEND:20231031T200000Z
URL:https://www.beroa.no/kalender/2023/10/31/bonnesamling/2789/
CREATED:20230924T134031Z
LAST-MODIFIED:20230924T134033Z
SUMMARY:Bønnesamling
DESCRIPTION:\n\nhttps://www.beroa.no/kalender/2023/10/31/bonnesamling/2789/
END:VEVENT

END:VCALENDAR