BEGIN:VCALENDAR
VERSION:2.0
PRODID:-//mWEB//NONSGML mWEB//NB
URL:https://www.beroa.no/kalender/ics
X-WR-CALNAME:Berøa Langåker
REFRESH-INTERVAL;VALUE=DURATION:PT6H
X-PUBLISHED-TTL:PT6H    
CALSCALE:GREGORIAN
BEGIN:VEVENT
UID:beroa.no-2842
DTSTAMP:20260424T221548Z
DTSTART:20231101T183000Z
DTEND:20231101T200000Z
URL:https://www.beroa.no/kalender/2023/11/01/mote-tale-av-nils-kare-strom/2842/
CREATED:20231016T163259Z
LAST-MODIFIED:20231016T163301Z
SUMMARY:Møte. Tale av Nils Kåre Strøm
DESCRIPTION:\n\nhttps://www.beroa.no/kalender/2023/11/01/mote-tale-av-nils-kare-strom/2842/
END:VEVENT

END:VCALENDAR