BEGIN:VCALENDAR
VERSION:2.0
PRODID:-//mWEB//NONSGML mWEB//NB
URL:https://www.beroa.no/kalender/ics
X-WR-CALNAME:Berøa Langåker
REFRESH-INTERVAL;VALUE=DURATION:PT6H
X-PUBLISHED-TTL:PT6H    
CALSCALE:GREGORIAN
BEGIN:VEVENT
UID:beroa.no-2761
DTSTAMP:20260424T215801Z
DTSTART:20231103T170000Z
DTEND:20231103T183000Z
URL:https://www.beroa.no/kalender/2023/11/03/10-13-klubben/2761/
CREATED:20230815T171848Z
LAST-MODIFIED:20230815T171848Z
SUMMARY:10-13 klubben
DESCRIPTION:\n\nhttps://www.beroa.no/kalender/2023/11/03/10-13-klubben/2761/
END:VEVENT

END:VCALENDAR