BEGIN:VCALENDAR
VERSION:2.0
PRODID:-//mWEB//NONSGML mWEB//NB
URL:https://www.beroa.no/kalender/ics
X-WR-CALNAME:Berøa Langåker
REFRESH-INTERVAL;VALUE=DURATION:PT6H
X-PUBLISHED-TTL:PT6H    
CALSCALE:GREGORIAN
BEGIN:VEVENT
UID:beroa.no-2843
DTSTAMP:20260424T220353Z
DTSTART:20231103T183000Z
DTEND:20231103T200000Z
URL:https://www.beroa.no/kalender/2023/11/03/mote-tale-av-nils-kare-strom-lovsangsgruppa-blir-med/2843/
CREATED:20231016T163357Z
LAST-MODIFIED:20231025T153959Z
SUMMARY:Møte. Tale av Nils Kåre Strøm. Lovsangsgruppa blir med.
DESCRIPTION:\n\nhttps://www.beroa.no/kalender/2023/11/03/mote-tale-av-nils-kare-strom-lovsangsgruppa-blir-med/2843/
END:VEVENT

END:VCALENDAR