BEGIN:VCALENDAR
VERSION:2.0
PRODID:-//mWEB//NONSGML mWEB//NB
URL:https://www.beroa.no/kalender/ics
X-WR-CALNAME:Berøa Langåker
REFRESH-INTERVAL;VALUE=DURATION:PT6H
X-PUBLISHED-TTL:PT6H    
CALSCALE:GREGORIAN
BEGIN:VEVENT
UID:beroa.no-2844
DTSTAMP:20260424T220852Z
DTSTART:20231104T170000Z
DTEND:20231104T183000Z
URL:https://www.beroa.no/kalender/2023/11/04/mote-tale-av-nils-kare-strom-lovsangsgruppa-blir-med/2844/
CREATED:20231016T163417Z
LAST-MODIFIED:20231025T154021Z
SUMMARY:Møte. Tale av Nils Kåre Strøm. Lovsangsgruppa blir med.
DESCRIPTION:\n\nhttps://www.beroa.no/kalender/2023/11/04/mote-tale-av-nils-kare-strom-lovsangsgruppa-blir-med/2844/
END:VEVENT

END:VCALENDAR