BEGIN:VCALENDAR
VERSION:2.0
PRODID:-//mWEB//NONSGML mWEB//NB
URL:https://www.beroa.no/kalender/ics
X-WR-CALNAME:Berøa Langåker
REFRESH-INTERVAL;VALUE=DURATION:PT6H
X-PUBLISHED-TTL:PT6H    
CALSCALE:GREGORIAN
BEGIN:VEVENT
UID:beroa.no-2776
DTSTAMP:20260424T215831Z
DTSTART:20231104T200000Z
DTEND:20231104T213000Z
URL:https://www.beroa.no/kalender/2023/11/04/ungdomsmote-beroa/2776/
CREATED:20230916T202035Z
LAST-MODIFIED:20230916T202035Z
SUMMARY:Ungdomsmøte Berøa
DESCRIPTION:\n\nhttps://www.beroa.no/kalender/2023/11/04/ungdomsmote-beroa/2776/
END:VEVENT

END:VCALENDAR