BEGIN:VCALENDAR
VERSION:2.0
PRODID:-//mWEB//NONSGML mWEB//NB
URL:https://www.beroa.no/kalender/ics
X-WR-CALNAME:Berøa Langåker
REFRESH-INTERVAL;VALUE=DURATION:PT6H
X-PUBLISHED-TTL:PT6H    
CALSCALE:GREGORIAN
BEGIN:VEVENT
UID:beroa.no-2695
DTSTAMP:20260424T220541Z
DTSTART:20231105T183000Z
DTEND:20231105T200000Z
URL:https://www.beroa.no/kalender/2023/11/05/mote-tale-av-nils-kare-strom-lovsangsgruppa-blir-med/2695/
CREATED:20230625T170348Z
LAST-MODIFIED:20231030T183219Z
SUMMARY:Møte. Tale av Nils Kåre Strøm. Lovsangsgruppa blir med.
DESCRIPTION:\n\nhttps://www.beroa.no/kalender/2023/11/05/mote-tale-av-nils-kare-strom-lovsangsgruppa-blir-med/2695/
END:VEVENT

END:VCALENDAR