BEGIN:VCALENDAR
VERSION:2.0
PRODID:-//mWEB//NONSGML mWEB//NB
URL:https://www.beroa.no/kalender/ics
X-WR-CALNAME:Berøa Langåker
REFRESH-INTERVAL;VALUE=DURATION:PT6H
X-PUBLISHED-TTL:PT6H    
CALSCALE:GREGORIAN
BEGIN:VEVENT
UID:beroa.no-2833
DTSTAMP:20260424T215633Z
DTSTART:20231107T183000Z
DTEND:20231107T200000Z
URL:https://www.beroa.no/kalender/2023/11/07/bonnesamling/2833/
CREATED:20231014T122719Z
LAST-MODIFIED:20231014T122720Z
SUMMARY:Bønnesamling
DESCRIPTION:\n\nhttps://www.beroa.no/kalender/2023/11/07/bonnesamling/2833/
END:VEVENT

END:VCALENDAR