BEGIN:VCALENDAR
VERSION:2.0
PRODID:-//mWEB//NONSGML mWEB//NB
URL:https://www.beroa.no/kalender/ics
X-WR-CALNAME:Berøa Langåker
REFRESH-INTERVAL;VALUE=DURATION:PT6H
X-PUBLISHED-TTL:PT6H    
CALSCALE:GREGORIAN
BEGIN:VEVENT
UID:beroa.no-2847
DTSTAMP:20260424T221537Z
DTSTART:20231108T160000Z
DTEND:20231108T173000Z
URL:https://www.beroa.no/kalender/2023/11/08/privarr-kjellerstue/2847/
CREATED:20231030T201436Z
LAST-MODIFIED:20231030T201437Z
SUMMARY:Priv.arr kjellerstue
DESCRIPTION:\n\nhttps://www.beroa.no/kalender/2023/11/08/privarr-kjellerstue/2847/
END:VEVENT

END:VCALENDAR