BEGIN:VCALENDAR
VERSION:2.0
PRODID:-//mWEB//NONSGML mWEB//NB
URL:https://www.beroa.no/kalender/ics
X-WR-CALNAME:Berøa Langåker
REFRESH-INTERVAL;VALUE=DURATION:PT6H
X-PUBLISHED-TTL:PT6H    
CALSCALE:GREGORIAN
BEGIN:VEVENT
UID:beroa.no-2838
DTSTAMP:20260424T215523Z
DTSTART:20231109T183000Z
DTEND:20231109T200000Z
URL:https://www.beroa.no/kalender/2023/11/09/bibellesning/2838/
CREATED:20231014T122935Z
LAST-MODIFIED:20231014T122937Z
SUMMARY:Bibellesning
DESCRIPTION:\n\nhttps://www.beroa.no/kalender/2023/11/09/bibellesning/2838/
END:VEVENT

END:VCALENDAR