BEGIN:VCALENDAR
VERSION:2.0
PRODID:-//mWEB//NONSGML mWEB//NB
URL:https://www.beroa.no/kalender/ics
X-WR-CALNAME:Berøa Langåker
REFRESH-INTERVAL;VALUE=DURATION:PT6H
X-PUBLISHED-TTL:PT6H    
CALSCALE:GREGORIAN
BEGIN:VEVENT
UID:beroa.no-2848
DTSTAMP:20260424T221743Z
DTSTART:20231110T183000Z
DTEND:20231110T200000Z
URL:https://www.beroa.no/kalender/2023/11/10/mote-med-nils-kare-strom-og-gaute-melberg-sang-av-sevlandsgutane/2848/
CREATED:20231107T082619Z
LAST-MODIFIED:20231107T132850Z
SUMMARY:Møte med Nils Kåre Strøm og Gaute Melberg. Sang av Sevlandsgutane
DESCRIPTION:\n\nhttps://www.beroa.no/kalender/2023/11/10/mote-med-nils-kare-strom-og-gaute-melberg-sang-av-sevlandsgutane/2848/
END:VEVENT

END:VCALENDAR