BEGIN:VCALENDAR
VERSION:2.0
PRODID:-//mWEB//NONSGML mWEB//NB
URL:https://www.beroa.no/kalender/ics
X-WR-CALNAME:Berøa Langåker
REFRESH-INTERVAL;VALUE=DURATION:PT6H
X-PUBLISHED-TTL:PT6H    
CALSCALE:GREGORIAN
BEGIN:VEVENT
UID:beroa.no-2783
DTSTAMP:20260424T215610Z
DTSTART:20231113T160000Z
DTEND:20231113T173000Z
URL:https://www.beroa.no/kalender/2023/11/13/mandagsklubben/2783/
CREATED:20230919T152857Z
LAST-MODIFIED:20230919T152857Z
SUMMARY:Mandagsklubben
DESCRIPTION:\n\nhttps://www.beroa.no/kalender/2023/11/13/mandagsklubben/2783/
END:VEVENT

END:VCALENDAR