BEGIN:VCALENDAR
VERSION:2.0
PRODID:-//mWEB//NONSGML mWEB//NB
URL:https://www.beroa.no/kalender/ics
X-WR-CALNAME:Berøa Langåker
REFRESH-INTERVAL;VALUE=DURATION:PT6H
X-PUBLISHED-TTL:PT6H    
CALSCALE:GREGORIAN
BEGIN:VEVENT
UID:beroa.no-2762
DTSTAMP:20260424T215831Z
DTSTART:20231117T170000Z
DTEND:20231117T183000Z
URL:https://www.beroa.no/kalender/2023/11/17/10-13-klubben/2762/
CREATED:20230815T171910Z
LAST-MODIFIED:20230815T171916Z
SUMMARY:10-13 klubben
DESCRIPTION:\n\nhttps://www.beroa.no/kalender/2023/11/17/10-13-klubben/2762/
END:VEVENT

END:VCALENDAR