BEGIN:VCALENDAR
VERSION:2.0
PRODID:-//mWEB//NONSGML mWEB//NB
URL:https://www.beroa.no/kalender/ics
X-WR-CALNAME:Berøa Langåker
REFRESH-INTERVAL;VALUE=DURATION:PT6H
X-PUBLISHED-TTL:PT6H    
CALSCALE:GREGORIAN
BEGIN:VEVENT
UID:beroa.no-2777
DTSTAMP:20260424T215633Z
DTSTART:20231118T190000Z
DTEND:20231118T203000Z
URL:https://www.beroa.no/kalender/2023/11/18/zennep/2777/
CREATED:20230916T202113Z
LAST-MODIFIED:20231116T120557Z
SUMMARY:Zennep
DESCRIPTION:\n\n\nhttps://www.beroa.no/kalender/2023/11/18/zennep/2777/
END:VEVENT

END:VCALENDAR