BEGIN:VCALENDAR
VERSION:2.0
PRODID:-//mWEB//NONSGML mWEB//NB
URL:https://www.beroa.no/kalender/ics
X-WR-CALNAME:Berøa Langåker
REFRESH-INTERVAL;VALUE=DURATION:PT6H
X-PUBLISHED-TTL:PT6H    
CALSCALE:GREGORIAN
BEGIN:VEVENT
UID:beroa.no-2681
DTSTAMP:20260424T215442Z
DTSTART:20231119T183000Z
DTEND:20231119T200000Z
URL:https://www.beroa.no/kalender/2023/11/19/brodsbrytelse/2681/
CREATED:20230510T170236Z
LAST-MODIFIED:20230625T173310Z
SUMMARY:Brødsbrytelse
DESCRIPTION:\n\nhttps://www.beroa.no/kalender/2023/11/19/brodsbrytelse/2681/
END:VEVENT

END:VCALENDAR