BEGIN:VCALENDAR
VERSION:2.0
PRODID:-//mWEB//NONSGML mWEB//NB
URL:https://www.beroa.no/kalender/ics
X-WR-CALNAME:Berøa Langåker
REFRESH-INTERVAL;VALUE=DURATION:PT6H
X-PUBLISHED-TTL:PT6H    
CALSCALE:GREGORIAN
BEGIN:VEVENT
UID:beroa.no-2739
DTSTAMP:20260424T215657Z
DTSTART:20231119T100000Z
DTEND:20231119T113000Z
URL:https://www.beroa.no/kalender/2023/11/19/sondagsskole/2739/
CREATED:20230626T162357Z
LAST-MODIFIED:20230626T162400Z
SUMMARY:Søndagsskole
DESCRIPTION:\n\nhttps://www.beroa.no/kalender/2023/11/19/sondagsskole/2739/
END:VEVENT

END:VCALENDAR