BEGIN:VCALENDAR
VERSION:2.0
PRODID:-//mWEB//NONSGML mWEB//NB
URL:https://www.beroa.no/kalender/ics
X-WR-CALNAME:Berøa Langåker
REFRESH-INTERVAL;VALUE=DURATION:PT6H
X-PUBLISHED-TTL:PT6H    
CALSCALE:GREGORIAN
BEGIN:VEVENT
UID:beroa.no-2698
DTSTAMP:20260424T204239Z
DTSTART:20231203T183000Z
DTEND:20231203T200000Z
URL:https://www.beroa.no/kalender/2023/12/03/mote-tale-av-anna-kristin-rosberg/2698/
CREATED:20230625T172323Z
LAST-MODIFIED:20230625T172326Z
SUMMARY:Møte.  Tale av Anna Kristin Rosberg
DESCRIPTION:\n\nhttps://www.beroa.no/kalender/2023/12/03/mote-tale-av-anna-kristin-rosberg/2698/
END:VEVENT

END:VCALENDAR