BEGIN:VCALENDAR
VERSION:2.0
PRODID:-//mWEB//NONSGML mWEB//NB
URL:https://www.beroa.no/kalender/ics
X-WR-CALNAME:Berøa Langåker
REFRESH-INTERVAL;VALUE=DURATION:PT6H
X-PUBLISHED-TTL:PT6H    
CALSCALE:GREGORIAN
BEGIN:VEVENT
UID:beroa.no-2740
DTSTAMP:20260424T202648Z
DTSTART:20231203T100000Z
DTEND:20231203T113000Z
URL:https://www.beroa.no/kalender/2023/12/03/sondagsskole/2740/
CREATED:20230626T162421Z
LAST-MODIFIED:20230626T162424Z
SUMMARY:Søndagsskole
DESCRIPTION:\n\nhttps://www.beroa.no/kalender/2023/12/03/sondagsskole/2740/
END:VEVENT

END:VCALENDAR