BEGIN:VCALENDAR
VERSION:2.0
PRODID:-//mWEB//NONSGML mWEB//NB
URL:https://www.beroa.no/kalender/ics
X-WR-CALNAME:Berøa Langåker
REFRESH-INTERVAL;VALUE=DURATION:PT6H
X-PUBLISHED-TTL:PT6H    
CALSCALE:GREGORIAN
BEGIN:VEVENT
UID:beroa.no-2853
DTSTAMP:20260424T202514Z
DTSTART:20231207T183000Z
DTEND:20231207T200000Z
URL:https://www.beroa.no/kalender/2023/12/07/bibellesning/2853/
CREATED:20231115T174127Z
LAST-MODIFIED:20231115T174128Z
SUMMARY:Bibellesning
DESCRIPTION:\n\nhttps://www.beroa.no/kalender/2023/12/07/bibellesning/2853/
END:VEVENT

END:VCALENDAR