BEGIN:VCALENDAR
VERSION:2.0
PRODID:-//mWEB//NONSGML mWEB//NB
URL:https://www.beroa.no/kalender/ics
X-WR-CALNAME:Berøa Langåker
REFRESH-INTERVAL;VALUE=DURATION:PT6H
X-PUBLISHED-TTL:PT6H    
CALSCALE:GREGORIAN
BEGIN:VEVENT
UID:beroa.no-2700
DTSTAMP:20260424T202724Z
DTSTART:20231209T230000Z
DTEND:20231210T225900Z
URL:https://www.beroa.no/kalender/2023/12/10/ikke-mote/2700/
CREATED:20230625T172450Z
LAST-MODIFIED:20230625T172453Z
SUMMARY:(Ikke møte)
DESCRIPTION:\n\nhttps://www.beroa.no/kalender/2023/12/10/ikke-mote/2700/
X-MICROSOFT-CDO-ALLDAYEVENT:TRUE
END:VEVENT

END:VCALENDAR