BEGIN:VCALENDAR
VERSION:2.0
PRODID:-//mWEB//NONSGML mWEB//NB
URL:https://www.beroa.no/kalender/ics
X-WR-CALNAME:Berøa Langåker
REFRESH-INTERVAL;VALUE=DURATION:PT6H
X-PUBLISHED-TTL:PT6H    
CALSCALE:GREGORIAN
BEGIN:VEVENT
UID:beroa.no-2854
DTSTAMP:20260424T202637Z
DTSTART:20231214T183000Z
DTEND:20231214T200000Z
URL:https://www.beroa.no/kalender/2023/12/14/bibellesning/2854/
CREATED:20231115T174148Z
LAST-MODIFIED:20231115T174151Z
SUMMARY:Bibellesning
DESCRIPTION:\n\nhttps://www.beroa.no/kalender/2023/12/14/bibellesning/2854/
END:VEVENT

END:VCALENDAR