BEGIN:VCALENDAR
VERSION:2.0
PRODID:-//mWEB//NONSGML mWEB//NB
URL:https://www.beroa.no/kalender/ics
X-WR-CALNAME:Berøa Langåker
REFRESH-INTERVAL;VALUE=DURATION:PT6H
X-PUBLISHED-TTL:PT6H    
CALSCALE:GREGORIAN
BEGIN:VEVENT
UID:beroa.no-2778
DTSTAMP:20260424T202724Z
DTSTART:20231216T190000Z
DTEND:20231216T203000Z
URL:https://www.beroa.no/kalender/2023/12/16/zennep-julebord/2778/
CREATED:20230916T202635Z
LAST-MODIFIED:20231129T145751Z
SUMMARY:Zennep julebord
DESCRIPTION:\n\n\nhttps://www.beroa.no/kalender/2023/12/16/zennep-julebord/2778/
END:VEVENT

END:VCALENDAR