BEGIN:VCALENDAR
VERSION:2.0
PRODID:-//mWEB//NONSGML mWEB//NB
URL:https://www.beroa.no/kalender/ics
X-WR-CALNAME:Berøa Langåker
REFRESH-INTERVAL;VALUE=DURATION:PT6H
X-PUBLISHED-TTL:PT6H    
CALSCALE:GREGORIAN
BEGIN:VEVENT
UID:beroa.no-2682
DTSTAMP:20260424T202458Z
DTSTART:20231217T100000Z
DTEND:20231217T113000Z
URL:https://www.beroa.no/kalender/2023/12/17/brodsbrytelse/2682/
CREATED:20230510T170257Z
LAST-MODIFIED:20230625T172522Z
SUMMARY:Brødsbrytelse
DESCRIPTION:\n\nhttps://www.beroa.no/kalender/2023/12/17/brodsbrytelse/2682/
END:VEVENT

END:VCALENDAR