BEGIN:VCALENDAR
VERSION:2.0
PRODID:-//mWEB//NONSGML mWEB//NB
URL:https://www.beroa.no/kalender/ics
X-WR-CALNAME:Berøa Langåker
REFRESH-INTERVAL;VALUE=DURATION:PT6H
X-PUBLISHED-TTL:PT6H    
CALSCALE:GREGORIAN
BEGIN:VEVENT
UID:beroa.no-2712
DTSTAMP:20260424T203042Z
DTSTART:20231224T150000Z
DTEND:20231224T163000Z
URL:https://www.beroa.no/kalender/2023/12/24/julemote-andakt-av-david-a-sjoen-sondagsskulekoret-og-lovsangsgruppa-blir-med/2712/
CREATED:20230625T174647Z
LAST-MODIFIED:20231115T174408Z
SUMMARY:Julemøte.  Andakt av David A Sjøen. Søndagsskulekoret og Lovsangsgruppa blir med.
DESCRIPTION:\n\nhttps://www.beroa.no/kalender/2023/12/24/julemote-andakt-av-david-a-sjoen-sondagsskulekoret-og-lovsangsgruppa-blir-med/2712/
END:VEVENT

END:VCALENDAR