BEGIN:VCALENDAR
VERSION:2.0
PRODID:-//mWEB//NONSGML mWEB//NB
URL:https://www.beroa.no/kalender/ics
X-WR-CALNAME:Berøa Langåker
REFRESH-INTERVAL;VALUE=DURATION:PT6H
X-PUBLISHED-TTL:PT6H    
CALSCALE:GREGORIAN
BEGIN:VEVENT
UID:beroa.no-2713
DTSTAMP:20260424T202837Z
DTSTART:20231231T160000Z
DTEND:20231231T173000Z
URL:https://www.beroa.no/kalender/2023/12/31/nyttarsmote-tale-av-einar-sjoen/2713/
CREATED:20230625T174710Z
LAST-MODIFIED:20231108T172258Z
SUMMARY:Nyttårsmøte. Tale av Einar Sjøen
DESCRIPTION:\n\nhttps://www.beroa.no/kalender/2023/12/31/nyttarsmote-tale-av-einar-sjoen/2713/
END:VEVENT

END:VCALENDAR