BEGIN:VCALENDAR
VERSION:2.0
PRODID:-//mWEB//NONSGML mWEB//NB
URL:https://www.beroa.no/kalender/ics
X-WR-CALNAME:Berøa Langåker
REFRESH-INTERVAL;VALUE=DURATION:PT6H
X-PUBLISHED-TTL:PT6H    
CALSCALE:GREGORIAN
BEGIN:VEVENT
UID:beroa.no-2868
DTSTAMP:20260424T190528Z
DTSTART:20240103T183000Z
DTEND:20240103T200000Z
URL:https://www.beroa.no/kalender/2024/01/03/ovelse-lovsangsgruppa/2868/
CREATED:20231120T203711Z
LAST-MODIFIED:20231120T203711Z
SUMMARY:Øvelse Lovsangsgruppa
DESCRIPTION:\n\nhttps://www.beroa.no/kalender/2024/01/03/ovelse-lovsangsgruppa/2868/
END:VEVENT

END:VCALENDAR