BEGIN:VCALENDAR
VERSION:2.0
PRODID:-//mWEB//NONSGML mWEB//NB
URL:https://www.beroa.no/kalender/ics
X-WR-CALNAME:Berøa Langåker
REFRESH-INTERVAL;VALUE=DURATION:PT6H
X-PUBLISHED-TTL:PT6H    
CALSCALE:GREGORIAN
BEGIN:VEVENT
UID:beroa.no-2892
DTSTAMP:20260424T185108Z
DTSTART:20240103T230000Z
DTEND:20240104T225900Z
URL:https://www.beroa.no/kalender/2024/01/04/ikke-bibellesning/2892/
CREATED:20231230T120440Z
LAST-MODIFIED:20231230T120441Z
SUMMARY:(Ikke Bibellesning)
DESCRIPTION:\n\nhttps://www.beroa.no/kalender/2024/01/04/ikke-bibellesning/2892/
X-MICROSOFT-CDO-ALLDAYEVENT:TRUE
END:VEVENT

END:VCALENDAR