BEGIN:VCALENDAR
VERSION:2.0
PRODID:-//mWEB//NONSGML mWEB//NB
URL:https://www.beroa.no/kalender/ics
X-WR-CALNAME:Berøa Langåker
REFRESH-INTERVAL;VALUE=DURATION:PT6H
X-PUBLISHED-TTL:PT6H    
CALSCALE:GREGORIAN
BEGIN:VEVENT
UID:beroa.no-2893
DTSTAMP:20260424T191157Z
DTSTART:20240111T183000Z
DTEND:20240111T200000Z
URL:https://www.beroa.no/kalender/2024/01/11/bibellesning-romerbrevet-kap-1/2893/
CREATED:20231230T120516Z
LAST-MODIFIED:20231230T122651Z
SUMMARY:Bibellesning. Romerbrevet kap 1
DESCRIPTION:\n\nhttps://www.beroa.no/kalender/2024/01/11/bibellesning-romerbrevet-kap-1/2893/
END:VEVENT

END:VCALENDAR