BEGIN:VCALENDAR
VERSION:2.0
PRODID:-//mWEB//NONSGML mWEB//NB
URL:https://www.beroa.no/kalender/ics
X-WR-CALNAME:Berøa Langåker
REFRESH-INTERVAL;VALUE=DURATION:PT6H
X-PUBLISHED-TTL:PT6H    
CALSCALE:GREGORIAN
BEGIN:VEVENT
UID:beroa.no-2773
DTSTAMP:20260424T185102Z
DTSTART:20240113T200000Z
DTEND:20240113T213000Z
URL:https://www.beroa.no/kalender/2024/01/13/felles-ungdomstreff/2773/
CREATED:20230913T194644Z
LAST-MODIFIED:20230913T194644Z
SUMMARY:Felles ungdomstreff
DESCRIPTION:\n\nhttps://www.beroa.no/kalender/2024/01/13/felles-ungdomstreff/2773/
END:VEVENT

END:VCALENDAR