BEGIN:VCALENDAR
VERSION:2.0
PRODID:-//mWEB//NONSGML mWEB//NB
URL:https://www.beroa.no/kalender/ics
X-WR-CALNAME:Berøa Langåker
REFRESH-INTERVAL;VALUE=DURATION:PT6H
X-PUBLISHED-TTL:PT6H    
CALSCALE:GREGORIAN
BEGIN:VEVENT
UID:beroa.no-2845
DTSTAMP:20260424T190707Z
DTSTART:20240114T170000Z
DTEND:20240114T183000Z
URL:https://www.beroa.no/kalender/2024/01/14/mote-tale-av-david-a-sjoen-dap-lovsangsgruppa-blir-med/2845/
CREATED:20231016T171551Z
LAST-MODIFIED:20240104T172553Z
SUMMARY:Møte. Tale av David A Sjøen. Dåp. Lovsangsgruppa blir med
DESCRIPTION:\n\nhttps://www.beroa.no/kalender/2024/01/14/mote-tale-av-david-a-sjoen-dap-lovsangsgruppa-blir-med/2845/
END:VEVENT

END:VCALENDAR