BEGIN:VCALENDAR
VERSION:2.0
PRODID:-//mWEB//NONSGML mWEB//NB
URL:https://www.beroa.no/kalender/ics
X-WR-CALNAME:Berøa Langåker
REFRESH-INTERVAL;VALUE=DURATION:PT6H
X-PUBLISHED-TTL:PT6H    
CALSCALE:GREGORIAN
BEGIN:VEVENT
UID:beroa.no-2881
DTSTAMP:20260424T185102Z
DTSTART:20240116T183000Z
DTEND:20240116T200000Z
URL:https://www.beroa.no/kalender/2024/01/16/bonnesamling/2881/
CREATED:20231230T120013Z
LAST-MODIFIED:20231230T120015Z
SUMMARY:Bønnesamling
DESCRIPTION:\n\nhttps://www.beroa.no/kalender/2024/01/16/bonnesamling/2881/
END:VEVENT

END:VCALENDAR