BEGIN:VCALENDAR
VERSION:2.0
PRODID:-//mWEB//NONSGML mWEB//NB
URL:https://www.beroa.no/kalender/ics
X-WR-CALNAME:Berøa Langåker
REFRESH-INTERVAL;VALUE=DURATION:PT6H
X-PUBLISHED-TTL:PT6H    
CALSCALE:GREGORIAN
BEGIN:VEVENT
UID:beroa.no-2714
DTSTAMP:20260424T191658Z
DTSTART:20240119T183000Z
DTEND:20240119T200000Z
URL:https://www.beroa.no/kalender/2024/01/19/mote-tale-av-allan-neset-sang-av-annlaug-og-bente/2714/
CREATED:20230625T174851Z
LAST-MODIFIED:20240104T172619Z
SUMMARY:Møte. Tale av Allan Neset. Sang av Annlaug og Bente
DESCRIPTION:\n\nhttps://www.beroa.no/kalender/2024/01/19/mote-tale-av-allan-neset-sang-av-annlaug-og-bente/2714/
END:VEVENT

END:VCALENDAR