BEGIN:VCALENDAR
VERSION:2.0
PRODID:-//mWEB//NONSGML mWEB//NB
URL:https://www.beroa.no/kalender/ics
X-WR-CALNAME:Berøa Langåker
REFRESH-INTERVAL;VALUE=DURATION:PT6H
X-PUBLISHED-TTL:PT6H    
CALSCALE:GREGORIAN
BEGIN:VEVENT
UID:beroa.no-2716
DTSTAMP:20260424T190737Z
DTSTART:20240121T100000Z
DTEND:20240121T113000Z
URL:https://www.beroa.no/kalender/2024/01/21/mote-tale-av-allan-neset-lovsangsgruppa-blir-med/2716/
CREATED:20230625T174945Z
LAST-MODIFIED:20240104T172707Z
SUMMARY:Møte. Tale av Allan Neset. Lovsangsgruppa blir med
DESCRIPTION:\n\nhttps://www.beroa.no/kalender/2024/01/21/mote-tale-av-allan-neset-lovsangsgruppa-blir-med/2716/
END:VEVENT

END:VCALENDAR